{"text_format":"3","workbook":"xlsx","n_sheets":4,"sheets":["1","2","3","4"],"not_rendered":{"external_links":2,"defined_names":50},"read":"whole","date_system":"1900"}

{"sheet":"1","index":0,"n_rows":25,"n_cols":7,"rows_kept":25,"merged":[[0,4,0,6],[1,0,1,6]]}
[{"$nulls":4},"Приложение 1 \nк Постановлению  №36    от  06.09.2022  г                                              « Об исполнении  бюджета \nсельской администрации МО Каспинское сельское поселение за 2 квартал 2022 года.\""]
["Объем поступлений доходов в бюджет муниципального образования Каспинское сельское поселение  за 2 квартал  2022 году"]
["Код главы администратора*","Код бюджетной классификации Российской Федерации","Наименование доходов","Изменения (+;-)","Утверждено, сумма (тыс.рублей)","Исполнено, сумма (тыс.рублей)","Процент исполнения (процент)"]
[1,2,3,4,5]
[182,"1 00 00000 00 0000 000","НАЛОГОВЫЕ И НЕНАЛОГОВЫЕ ДОХОДЫ",{"$f":"D6+D15","v":{"$error":"#REF!"}},{"$f":"E6+E15","v":{"v":249,"d":"249.00"}},{"$f":"F6+F15","v":{"v":55.092,"d":"55.09"}},{"$f":"F5/E5*100","v":{"v":22.125301204819277,"d":"22"}}]
[null,null,"НАЛОГОВЫЕ ДОХОДЫ",{"$f":"D7+D8+D10","v":{"$error":"#REF!"}},{"$f":"E7+E8+E10","v":{"v":249,"d":"249.00"}},{"$f":"F7+F8+F10","v":{"v":55.092,"d":"55.09"}},{"$f":"F6/E6*100","v":{"v":22.125301204819277,"d":"22"}}]
[182,"1 01 02000 01 0000 110","Налог на доходы физических лиц",{"v":12,"d":"12.0"},{"v":20,"d":"20.00"},{"v":9.984,"d":"9.98"},{"$f":"F7/E7*100","v":{"v":49.919999999999995,"d":"50"}}]
[182,"1 05 00000 00 0000 000","Налоги на совокупный доход",{"$f":"D9","v":-1.2},{"$f":"E9","v":{"v":13,"d":"13.00"}},{"$f":"F9","v":{"v":11.188,"d":"11.19"}},{"$f":"F8/E8*100","v":{"v":86.06153846153846,"d":"86"}}]
[182,"1 05 03000 01 0000 110","Единый сельскохозяйственный налог",-1.2,{"v":13,"d":"13.00"},{"v":11.188,"d":"11.19"},{"v":86.06153846153846,"d":"86"}]
[182,"1 06 00000 00 0000 000","Налоги на имущество",{"$f":"D11+#REF!","v":{"$error":"#REF!"}},{"$f":"E11+E12","v":{"v":216,"d":"216.00"}},{"$f":"F11+F12","v":33.92},{"v":15.703703703703706,"d":"16"}]
[182,"1 06 01000 00 0000 110","Налог на имущество физических лиц  ",-8.7,{"v":42,"d":"42.00"},{"v":9.855,"d":"9.86"},{"v":23.464285714285715,"d":"23"}]
[182,"1 06 06000 00 0000 110","Земельный налог  ",null,{"$f":"E13+E14","v":{"v":174,"d":"174.00"}},{"$f":"F13+F14","v":{"v":24.064999999999998,"d":"24.07"}},{"v":13.830459770114942,"d":"14"}]
[182,"1 06 06033 10 1000 110","Земельный налог  с организаций",null,{"v":25,"d":"25.00"},{"v":18.098,"d":"18.10"},{"v":72.392,"d":"72"}]
[182,"1 06 06043 10 1000 110","Земельный налог с физических лиц",null,{"v":149,"d":"149.00"},{"v":5.967,"d":"5.97"},{"v":4.004697986577181,"d":"4"}]
[null,null,"НЕНАЛОГОВЫЕ ДОХОДЫ",{"$f":"#REF!","v":{"$error":"#REF!"}}]
[801,"2 00 00000 00 0000 000","Безвозмездные поступления",{"$f":"D17","v":{"v":0,"d":"0.0"}},{"$f":"E17+E24","v":{"v":1751,"d":"1751.00"}},{"$f":"F17+F24","v":{"v":863.9879999999999,"d":"863.99"}},{"v":49.34254711593375,"d":"49"}]
[801," 2 02 00000 00 0000 000","Безвозмездные поступления от других бюджетов бюджетной системы Российской Федерации",{"v":0,"d":"0.0"},{"$f":"E18","v":{"v":1751,"d":"1751.00"}},{"$f":"F18","v":{"v":863.9879999999999,"d":"863.99"}},{"v":49.34254711593375,"d":"49"}]
[801," 2 02 00000 00 0000 000","Безвозмездные поступления от других бюджетов бюджетной системы Российской Федерации",null,{"$f":"SUM(E19:E23)","v":{"v":1751,"d":"1751.00"}},{"$f":"SUM(F19:F23)","v":{"v":863.9879999999999,"d":"863.99"}},{"v":49.34254711593375,"d":"49"}]
[801," 2 02 15001 10 0000 150","Дотации бюджетам субъектов Российской Федерации и муниципальных образований",null,{"v":1278,"d":"1278.00"},{"v":639,"d":"639.00"},50]
[801," 2 02 30024 10 0000 150"," Субвенции бюджетам сельских поселений на выполнение передаваемых полномочий субъектов Российской Федерации",null,{"v":5,"d":"5.00"},{"v":5,"d":"5.00"},100]
[801,"2 02 03000 00 0000 151","Субвенции бюджетам субъектов Российской Федерации и муниципальных образований",2.3,{"v":69.5,"d":"69.50"},{"v":35.6,"d":"35.60"},{"v":51.22302158273382,"d":"51"}]
[801,"2 02 04014 10 0000 151","Межбюджетные трансферты, передаваемые бюджетам муниципальных образований на осуществление части полномочий по решению вопросов местного значения ",-45.8,{"v":239,"d":"239.00"},{"v":126.088,"d":"126.09"},{"v":52.75648535564853,"d":"53"}]
[801,"2 02 04999 10 0000 151 ","Прочие межбюджетные трансферты, передаваемые бюджетам сельских поселений",45.8,{"v":159.5,"d":"159.50"},{"v":58.3,"d":"58.30"},{"v":36.55172413793103,"d":"37"}]
[801,"2 19 60010 10 0000 150","  Возврат прочих остатков субсидий, субвенций и иных межбюджетных трансфертов, имеющих целевое назначение, прошлых лет из бюджетов сельских поселений"]
[null,null,"Всего доходов",{"$f":"D5+D16","v":{"$error":"#REF!"}},{"$f":"E5+E16","v":{"v":2000,"d":"2000.00"}},{"$f":"F5+F16","v":{"v":919.0799999999999,"d":"919.08"}},{"v":45.95399999999999,"d":"46"}]

{"sheet":"2","index":1,"n_rows":18,"n_cols":6,"rows_kept":18,"merged":[[0,1,0,5],[2,0,3,5]]}
[null,"Приложение 2 \nк Постановлению  №36    от  06.09.2022  г                                              « Об исполнении  бюджета \nсельской администрации МО Каспинское сельское поселение за 2 квартал 2022 года.\""]
[]
["Распределение\nбюджетных ассигнований по разделам, подразделам классификации расходов бюджета муниципального образования Каспинское сельское поселение    за 2 квартал 2022год"]
[]
["Наименование показателя","Раздел, подраздел","Изменения (+;-)","Утверждено,(тыс.руб.)","Исполнено,(тыс.руб.)","Неисполненные назначения"]
["ОБЩЕГОСУДАРСТВЕННЫЕ ВОПРОСЫ","0100",{"$f":"SUM(C7:C8)","v":130.8},{"$f":"SUM(D7:D10)","v":{"v":1745.178,"d":"1745.18"}},{"$f":"SUM(E7:E10)","v":{"v":802.401,"d":"802.4"}},{"$f":"D6-E6","v":{"v":942.7770000000002,"d":"942.8"}}]
["Функционирование высшего должностного лица субъекта Российской Федерации и муниципального образования","0102",{"v":-38,"d":"-38.0"},{"$f":"'3'!G7","v":{"v":357.126,"d":"357.13"}},{"$f":"'3'!H7","v":{"v":164.613,"d":"164.61"}},{"$f":"D7-E7","v":{"v":192.51299999999998,"d":"192.5"}}]
["Функционирование Правительства Российской Федерации, высших исполнительных органов государственной власти субъектов Российской Федерации, местных администраций","0104",168.8,{"$f":"'3'!G10","v":{"v":1210.238,"d":"1210.24"}},{"$f":"'3'!H10","v":{"v":520.707,"d":"520.71"}},{"v":689.5310000000001,"d":"689.5"}]
["Резервные фонды","0111",null,{"$f":"'3'!G23","v":{"v":15,"d":"15.00"}},null,{"v":15,"d":"15.0"}]
["ДРУГИЕ ОБЩЕГОСУДАРСТВЕННЫЕ РАСХОДЫ","0113",null,{"$f":"'3'!G34","v":{"v":162.814,"d":"162.81"}},{"$f":"'3'!H34","v":{"v":117.081,"d":"117.08"}},{"v":45.73299999999999,"d":"45.7"}]
["НАЦИОНАЛЬНАЯ ОБОРОНА","0200",{"$f":"C12","v":50.5},{"$f":"D12","v":{"v":69.5,"d":"69.50"}},{"$f":"E12","v":{"v":35.6,"d":"35.60"}},33.9]
["Мобилизационная и вневойсковая подготовка","0203",50.5,{"$f":"'3'!G51","v":{"v":69.5,"d":"69.50"}},{"$f":"'3'!H51","v":{"v":35.6,"d":"35.60"}},33.9]
["НАЦИОНАЛЬНАЯ ЭКОНОМИКА","0400",null,{"$f":"D14","v":{"v":133.6,"d":"133.60"}},{"$f":"E14","v":{"v":53.557,"d":"53.56"}},{"v":80.04299999999999,"d":"80.0"}]
["Дорожное хозяйство (дорожные фонды)","0409",null,{"$f":"'3'!G57","v":{"v":133.6,"d":"133.60"}},{"$f":"'3'!H57","v":{"v":53.557,"d":"53.56"}},{"v":80.04299999999999,"d":"80.0"}]
["ЖИЛИЩНО-КОММУНАЛЬНОЕ ХОЗЯЙСТВО","0500",null,{"$f":"D16+D17","v":{"v":115.4,"d":"115.40"}},{"$f":"E16+E17","v":{"v":32.856,"d":"32.86"}},{"v":82.54400000000001,"d":"82.5"}]
["КОММУНАЛЬНОЕ ХОЗЯЙСТВО","0502",null,{"$f":"'3'!G61","v":{"v":105.4,"d":"105.40"}},{"$f":"'3'!H61","v":{"v":26.306,"d":"26.31"}},{"v":79.09400000000001,"d":"79.1"}]
["БЛАГОУСТРОЙСТВО","0503",null,{"$f":"'3'!G67","v":{"v":10,"d":"10.00"}},{"$f":"'3'!H67","v":6.55},{"v":3.45,"d":"3.5"}]
["ВСЕГО РАСХОДОВ",null,{"$f":"C6+#REF!+#REF!+C11+#REF!","v":{"$error":"#REF!"}},{"$f":"D6+D11+D13+D15","v":{"v":2063.678,"d":"2063.68"}},{"$f":"E6+E11+E13+E15","v":{"v":924.414,"d":"924.41"}},{"v":1139.264,"d":"1139.3"}]

{"sheet":"3","index":2,"n_rows":71,"n_cols":9,"rows_kept":71,"merged":[[0,4,0,8],[1,0,1,7],[2,1,2,5]]}
[{"$nulls":4},"Приложение 3\nк Постановлению  №36 от  06.09.2022  г « Об исполнении  бюджета \nсельской администрации МО Каспинское сельское поселение за 2 квартал 2022 года.\""]
["Ведомственная структура расходов бюджета  муниципального образования Каспинское сельское поселение за 2 квартал  2022 год"]
[{"$nulls":7},"(тыс. рублей)"]
["Наименование главного распорядителя ","Гл","Рз","ПР","ЦСР","ВР","Утверждено, сумма ","Исполнено, сумма ","Неисполненные назначения"]
[1,2,3,4,5,6,7,8,9]
["ОБЩЕГОСУДАРСТВЕННЫЕ ВОПРОСЫ","801","01","00",null,null,{"$f":"G7+G10+G23+G34","v":{"v":1745.178,"d":"1745.18"}},{"$f":"H7+H10+H23+H34","v":{"v":802.401,"d":"802.40"}},{"$f":"G6-H6","v":{"v":942.7770000000002,"d":"942.78"}}]
["Функционирование высшего должностного лица субьекта Российской Федерации и муниципального образования ","801","01","02",null,null,{"$f":"G8","v":{"v":357.126,"d":"357.13"}},{"$f":"H8","v":{"v":164.613,"d":"164.61"}},{"$f":"G7-H7","v":{"v":192.51299999999998,"d":"192.51"}}]
["Обеспечение деятельности высшего должностного лица","801","01","02","99 0 Л0 10100",null,{"$f":"G9","v":{"v":357.126,"d":"357.13"}},{"$f":"H9","v":{"v":164.613,"d":"164.61"}},{"v":192.51299999999998,"d":"192.51"}]
["Расходы на выплаты персоналу в целях обеспечения выполнения функций государственными (муниципальными) органами, казенными учреждениями, органами управления государственными внебюджетными фондами","801","01","02","99 0 Л0 10100","100",{"v":357.126,"d":"357.13"},{"v":164.613,"d":"164.61"},{"v":192.51299999999998,"d":"192.51"}]
["Функционирование Правительства Российской Федерации, высших исполнительных органов государственной власти субъектов Российской Федерации, местных администрации","801","01","04",null,null,{"$f":"G12+G16","v":{"v":1210.238,"d":"1210.24"}},{"$f":"H12+H16","v":{"v":520.707,"d":"520.71"}},{"v":689.5310000000001,"d":"689.53"}]
["Подпрограмма «Создание условий реализации муниципальной программы»","801","01","04","01 3 00 00000",null,{"$f":"G12","v":{"v":1165.598,"d":"1165.60"}},{"$f":"H12","v":{"v":517.707,"d":"517.71"}},{"v":647.891,"d":"647.89"}]
["Основное мероприятие  \"Повышение эффективности муниципального управления\"","801","01","04","01 3 00 00000",null,{"$f":"G13","v":{"v":1165.598,"d":"1165.60"}},{"$f":"H13","v":{"v":517.707,"d":"517.71"}},{"v":647.891,"d":"647.89"}]
["Материально-техническое обеспечение аппарата управления","801","01","04","01 3 У1 00000",null,{"$f":"G14+G15","v":{"v":1165.598,"d":"1165.60"}},{"$f":"H14+H15","v":{"v":517.707,"d":"517.71"}},{"v":647.891,"d":"647.89"}]
["Расходы на выплаты персоналу в целях обеспечения выполнения функций государственными (муниципальными) органами, казенными учреждениями, органами управления государственными внебюджетными фондами","801","01","04","01 3 У1 80110","100",{"v":1040.598,"d":"1040.60"},{"v":464.007,"d":"464.01"},{"v":576.5909999999999,"d":"576.59"}]
["Расходы на выплаты персоналу в целях обеспечения выполнения функций государственными (муниципальными) органами, казенными учреждениями, органами управления государственными внебюджетными фондами","801","01","04","01 3 У1 S8500","100",{"v":125,"d":"125.00"},{"v":53.7,"d":"53.70"},{"v":71.3,"d":"71.30"}]
["Подпрограмма «Развитие экономического и налогового потенциала»","801","01","04","01 2 00 00000",null,{"$f":"G17+G20","v":44.64},{"$f":"H17+H20","v":{"v":3,"d":"3.00"}},41.64]
["Основное мероприятие \"Фомирование эффективной системы управления и распоряжения муниципальными финансами\"","801","01","04","01 2 01 00000"," ",{"$f":"G18","v":{"v":10,"d":"10.00"}},{"$f":"H18","v":{"v":3,"d":"3.00"}},{"v":7,"d":"7.00"}]
["Материально-техническое обеспечение","801","01","04","01 2 01 01000",null,{"$f":"G19","v":{"v":10,"d":"10.00"}},{"$f":"H19","v":{"v":3,"d":"3.00"}},{"v":7,"d":"7.00"}]
["Иные бюджетные ассигнования","801","01","04","01 2 01 01000","800",{"v":10,"d":"10.00"},{"v":3,"d":"3.00"},{"v":7,"d":"7.00"}]
["Основное мероприятие \"Повышение  эффективной управления  муниципальной собственностью\"","801","01","04","01 2 02 00000",null,{"$f":"G21","v":34.64},{"$f":"H21","v":{"v":0,"d":"0.00"}},34.64]
["Межбюджетные трансферты, выделяемые из бюджета МОКаспинское сельское поселение  на финансирование расходов, связанных с передачей полномочий органам местного самоуправления муниципального образования \"Шебалинский район\" ","801","01","04","01 2 02 01100",null,{"$f":"G22","v":34.64},{"$f":"H22","v":{"v":0,"d":"0.00"}},34.64]
["Межбюджетные трансферты","801","01","04","01 2 02 01100","500",34.64,{"v":0,"d":"0.00"},34.64]
["РЕЗЕРВНЫЕ ФОНДЫ","801","01","11",null,null,{"$f":"G24","v":{"v":15,"d":"15.00"}},{"$f":"H24","v":{"v":0,"d":"0.00"}},{"v":15,"d":"15.00"}]
["Подпрограмма «Обеспечение безопасности населения и профилактика терроризма и экстремизма»","801","01","11","02 2 00 00000",null,{"$f":"G25+G28+G31","v":{"v":15,"d":"15.00"}},{"$f":"H25+H28+H31","v":{"v":0,"d":"0.00"}},{"v":15,"d":"15.00"}]
["Основное мероприятие \"Обеспечение первичных мер пожарной безопасности в границах поселений\"","801","01","11","02 2 01 Ш1000",null,{"$f":"G26","v":{"v":5,"d":"5.00"}},{"$f":"H26","v":{"v":0,"d":"0.00"}},{"v":5,"d":"5.00"}]
["Обеспечение первичных мер пожарной безопасности","801","01","11","02 2 01 Ш1000",null,{"$f":"G27","v":{"v":5,"d":"5.00"}},{"$f":"H27","v":{"v":0,"d":"0.00"}},{"v":5,"d":"5.00"}]
["Иные бюджетные ассигнования","801","01","11","02 2 01 Ш1000","800",{"v":5,"d":"5.00"},{"v":0,"d":"0.00"},{"v":5,"d":"5.00"}]
["Основное мероприятие \"Профилактика терроризма и экстремизма в границах поселения\"","801","01","11","02 2 02 Ш2000",null,{"$f":"G29","v":{"v":5,"d":"5.00"}},{"$f":"H29","v":{"v":0,"d":"0.00"}},{"v":5,"d":"5.00"}]
["Совершенствование системы информационно-пропагандистского противодействия терроризму и экстремизму","801","01","11","02 2 02 Ш2000",null,{"$f":"G30","v":{"v":5,"d":"5.00"}},{"$f":"H30","v":{"v":0,"d":"0.00"}},{"v":5,"d":"5.00"}]
["Иные бюджетные ассигнования","801","01","11","02 2 02 Ш2000","800",{"v":5,"d":"5.00"},{"v":0,"d":"0.00"},{"v":5,"d":"5.00"}]
["Основное мероприятие \"Предупреждение и ликвидация последствий чрезвычайных ситуаций в границах поселения\"","801","01","11","02 2 03 Ш3000",null,{"$f":"G32","v":{"v":5,"d":"5.00"}},{"$f":"H32","v":{"v":0,"d":"0.00"}},{"v":5,"d":"5.00"}]
["Обеспечение наличия запасов резервов финансовых и материальных ресурсов для ликвидации ЧС","801","01","11","02 2 03 Ш3000",null,{"$f":"G33","v":{"v":5,"d":"5.00"}},{"$f":"H33","v":{"v":0,"d":"0.00"}},{"v":5,"d":"5.00"}]
["Иные бюджетные ассигнования","801","01","11","02 2 03 Ш3000","800",{"v":5,"d":"5.00"},{"v":0,"d":"0.00"},{"v":5,"d":"5.00"}]
["Другие общегосударственные вопросы","801","01","13",null,null,{"$f":"G35+G39+G48","v":{"v":162.814,"d":"162.81"}},{"$f":"H35+H39+H48","v":{"v":117.081,"d":"117.08"}},{"v":45.73299999999999,"d":"45.73"}]
["Подпрограмма \"Развитие  социально-культурной сферы\"","801","01","13","01 1 01 00000",null,{"$f":"G36","v":{"v":5,"d":"5.00"}},{"v":0,"d":"0.00"},{"v":5,"d":"5.00"}]
["Основное мероприятие \"Развитие культурно-досуговой деятельности\"","801","01","13","01 1 01 00000",null,{"v":5,"d":"5.00"},{"v":0,"d":"0.00"},{"v":5,"d":"5.00"}]
["Организация  проведения мероприятий ","801","01","13","01 1 01 01000",null,{"v":5,"d":"5.00"},{"v":0,"d":"0.00"},{"v":5,"d":"5.00"}]
["Закупка товаров, работ и услуг для обеспечения государственных (муниципальных) нужд","801","01","13","01 1 01 01200","200",{"v":5,"d":"5.00"},{"v":0,"d":"0.00"},{"v":5,"d":"5.00"}]
["Подпрограмма «Развитие экономического и налогового потенциала»","801","01","13","01 2 00 00000",null,{"$f":"G40+G43","v":{"v":152.814,"d":"152.81"}},{"$f":"H40+H43","v":{"v":117.081,"d":"117.08"}},{"v":35.73299999999999,"d":"35.73"}]
["Основное мероприятие \"Фомирование эффективной системы управления и распоряжения муниципальными финансами\"","801","01","13","01 2 01 00000",null,{"$f":"G41","v":{"v":34.5,"d":"34.50"}},{"$f":"H41","v":{"v":0,"d":"0.00"}},{"v":34.5,"d":"34.50"}]
["  Обеспечение мероприятий  по информатизации бюджетного процесса                                                                                                                                               ","801","01","13","01 2 01 S9600",null,{"$f":"G42","v":{"v":34.5,"d":"34.50"}},{"$f":"H42","v":{"v":0,"d":"0.00"}},{"v":34.5,"d":"34.50"}]
["Закупка товаров, работ и услуг для обеспечения государственных (муниципальных) нужд","801","01","13","01 2 01 S9600","200",{"v":34.5,"d":"34.50"},{"v":0,"d":"0.00"},{"v":34.5,"d":"34.50"}]
["Основное мероприятие \"Повышение  эффективной управления  муниципальной собственностью\"","801","01","13","01 2 02 00000",null,{"$f":"G44+G46","v":{"v":118.314,"d":"118.31"}},{"$f":"H44+H46","v":{"v":117.081,"d":"117.08"}},{"v":1.2329999999999899,"d":"1.23"}]
["Организация мероприятия по обеспечению доступа к внешним информационным ресурсам","801","01","13","01 2 02 10200",null,{"$f":"G45","v":{"v":25,"d":"25.00"}},{"$f":"H45","v":24.67},{"v":0.3299999999999983,"d":"0.33"}]
["Закупка товаров, работ и услуг для обеспечения государственных (муниципальных) нужд","801","01","13","01 2 02 10200","200",{"v":25,"d":"25.00"},24.67,{"v":0.3299999999999983,"d":"0.33"}]
["Организация мероприятий по содержанию муниципального имущества","801","01","13","01 2 02 10200",null,{"$f":"G47","v":{"v":93.314,"d":"93.31"}},{"$f":"H47","v":{"v":92.411,"d":"92.41"}},{"v":0.9029999999999916,"d":"0.90"}]
["Закупка товаров, работ и услуг для обеспечения государственных (муниципальных) нужд","801","01","13","01 2 02 10200","200",{"v":93.314,"d":"93.31"},{"v":92.411,"d":"92.41"},{"v":0.9029999999999916,"d":"0.90"}]
["Непрограммные направления деятельности  сельской администрации ","801","01","13","99 0 У0 45300",null,{"$f":"G49","v":{"v":5,"d":"5.00"}},{"v":0,"d":"0.00"},{"v":5,"d":"5.00"}]
["Обеспечение мероприятий пв области законодательства об административных правонарушениях","801","01","13","99 0 У0 45300",null,{"$f":"G50","v":{"v":5,"d":"5.00"}},{"v":0,"d":"0.00"},{"v":5,"d":"5.00"}]
["Закупка товаров, работ и услуг для обеспечения государственных (муниципальных) нужд","801","01","13","99 0 У0 45300","200",{"v":5,"d":"5.00"},{"v":0,"d":"0.00"},{"v":5,"d":"5.00"}]
["НАЦИОНАЛЬНАЯ ОБОРОНА","801","02","00",null,null,{"$f":"G52","v":{"v":69.5,"d":"69.50"}},{"v":35.6,"d":"35.60"},{"v":33.9,"d":"33.90"}]
["Мобилизационная и вневойсковая подготовка","801","02","03","99 0 Л1 51180",null,{"v":69.5,"d":"69.50"},{"v":35.6,"d":"35.60"},{"v":33.9,"d":"33.90"}]
["Осуществление первичного воинского учета на территориях, где отсутствуют военные комиссариаты","801","02","03","99 0 Л1 51180",null,{"v":69.5,"d":"69.50"},{"v":35.6,"d":"35.60"},{"v":33.9,"d":"33.90"}]
["Расходы на выплаты персоналу в целях обеспечения выполнения функций государственными (муниципальными) органами, казенными учреждениями, органами управления государственными внебюджетными фондами","801","02","03","99 0 Л1 51180","100",{"v":69.5,"d":"69.50"},{"v":35.6,"d":"35.60"},{"v":33.9,"d":"33.90"}]
["НАЦИОНАЛЬНАЯ ЭКОНОМИКА","801","04","00",null,null,{"$f":"G56","v":{"v":133.6,"d":"133.60"}},{"v":53.557,"d":"53.56"},{"v":80.04299999999999,"d":"80.04"}]
["Подпрограмма \"Развитие инженерно- коммунального и дорожно-транспортного комплекса\" ","801","04","00","02 1 00 00000",null,{"v":133.6,"d":"133.60"},{"v":53.557,"d":"53.56"},{"v":80.04299999999999,"d":"80.04"}]
["ДОРОЖНОЕ ХОЗЯЙСТВО","801","04","09","02 1 01 Д0000",null,{"v":133.6,"d":"133.60"},{"v":53.557,"d":"53.56"},{"v":80.04299999999999,"d":"80.04"}]
["Основное мероприятие \"Содержание и развитие дорожно-транспортного комплекса\"","801","04","09","02 1 01 Д0000",null,{"v":133.6,"d":"133.60"},{"v":53.557,"d":"53.56"},{"v":80.04299999999999,"d":"80.04"}]
["Закупка товаров, работ и услуг для обеспечения государственных (муниципальных) нужд","801","04","09","02 1 01 Д0000","200",{"v":133.6,"d":"133.60"},{"v":53.557,"d":"53.56"},{"v":80.04299999999999,"d":"80.04"}]
["ЖИЛИЩНО-КОММУНАЛЬНОЕ ХОЗЯЙСТВО","801","05","00",null,null,{"$f":"G65+G61","v":{"v":115.4,"d":"115.40"}},{"$f":"H65+H61","v":{"v":32.856,"d":"32.86"}},{"v":82.54400000000001,"d":"82.54"}]
["Коммунальное хозяйство","801","05","02",null,null,{"$f":"G62","v":{"v":105.4,"d":"105.40"}},{"v":26.306,"d":"26.31"},{"v":79.09400000000001,"d":"79.09"}]
["Подпрограмма \"Развитие инженерно- коммунального и дорожно-транспортного комплекса\" ","801","05","02","02 1 02 00000",null,{"v":105.4,"d":"105.40"},{"v":26.306,"d":"26.31"},{"v":79.09400000000001,"d":"79.09"}]
["Основное мероприятие \"Содержание инженерно -коммунальной инфраструктуры","801","05","02","02 1 02 00000",null,{"v":105.4,"d":"105.40"},{"v":26.306,"d":"26.31"},{"v":79.09400000000001,"d":"79.09"}]
["Закупка товаров, работ и услуг для обеспечения государственных (муниципальных) нужд","801","05","02","02 1 02 01400","200",{"v":105.4,"d":"105.40"},{"v":26.306,"d":"26.31"},{"v":79.09400000000001,"d":"79.09"}]
["БЛАГОУСТРОЙСТВО","801","05","03",null,null,{"$f":"G66","v":{"v":10,"d":"10.00"}},6.55,3.45]
["Подпрограмма Повышение уровня благоустройства территории","801","05","03","02 3 00 00000",null,{"v":10,"d":"10.00"},6.55,3.45]
["Основное мероприятие \"Поддержание и улучшение санитарного и эстетического состояния территории\"","801","05","03","02 3 01 00000",null,{"v":10,"d":"10.00"},6.55,3.45]
["Организация сбора ,вывоза бытовых отходов","801","05","03","02 3 01 10000",null,{"v":10,"d":"10.00"},{"$f":"H69","v":6.55},3.45]
["Закупка товаров, работ и услуг для обеспечения государственных (муниципальных) нужд","801","05","03","02 3 01 10000","200",{"v":10,"d":"10.00"},6.55,3.45]
["Условно утверждаемые расходы","999","99","99","99 9 99 99999",null,{"v":0,"d":"0.00"},{"v":0,"d":"0.00"},{"v":0,"d":"0.00"}]
["ВСЕГО РАСХОДОВ",{"$nulls":5},{"$f":"G6+G51+G55+G60+G70","v":{"v":2063.678,"d":"2063.68"}},{"$f":"H6+H51+H55+H60+H70","v":{"v":924.414,"d":"924.41"}},{"$f":"G71-H71","v":{"v":1139.264,"d":"1139.26"}}]

{"sheet":"4","index":3,"n_rows":13,"n_cols":5,"rows_kept":13,"merged":[[0,2,0,4],[1,0,1,4]]}
[null,null,"Приложение 4 \nк Постановлению  №36 от  06.09.2022  г                                              « Об исполнении  бюджета \nсельской администрации МО Каспинское сельское поселение за 2 квартал 2022 года.\""]
["Источники финансирования   бюджета муниципального образования Каспинское сельское поселение  за 2 квартал  2022 год"]
[]
[null,"Код бюджетной классификации","Утвержденные  плановые назначения на 2022 год, сумма (тыс. рублей)","Кассовое исполнение за 1 квартал  2022 год, сумма (тыс. рублей)","Неисполненные назначения"]
["Дефицит бюджета",null,{"$f":"C6","v":0},{"$f":"D6","v":{"v":-5.336,"d":"-5.34"}},{"$f":"C5-D5","v":{"v":5.336,"d":"5.34"}}]
["Источники внутреннего финансирования  дефицита бюджета:","000 01 00 00 00 00 0000 000",{"$f":"C8","v":0},{"$f":"D8","v":{"v":-5.336,"d":"-5.34"}},{"$f":"C6-D6","v":{"v":5.336,"d":"5.34"}}]
["в том числе:"]
["Изменение остатков средств на счетах по учету средств бюджета","000 01 05 00 00 00 0000 000",0,{"v":-5.336,"d":"-5.34"},{"$f":"C8-D8","v":{"v":5.336,"d":"5.34"}}]
["Кредиты кредитных организаций в валюте Российской Федерации","000 01 02 00 00 00 0000 000"]
["Получение кредитов от кредитных организаций в валюте Российской Федерации","000 01 02 00 00 00 0000 700"]
["Получение кредитов от кредитных организаций местными бюджетами бюджетами в валюте Российской Федерации","000 01 02 00 00 05 0000 710"]
["Погашение кредитов, предоставленных кредитными организациями в валюте Российской Федерации","000 01 02 00 00 00 0000 800"]
["Погашение местными бюджетами  кредитов от кредитных организаций в валюте Российской Федерации","000 01 02 02 00 05 0000 810"]